BEGIN:VCALENDAR
VERSION:2.0
PRODID:-//Eno River Media - ECPv6.15.17.1//NONSGML v1.0//EN
CALSCALE:GREGORIAN
METHOD:PUBLISH
X-ORIGINAL-URL:https://www.enorivermedia.com
X-WR-CALDESC:Events for Eno River Media
REFRESH-INTERVAL;VALUE=DURATION:PT1H
X-Robots-Tag:noindex
X-PUBLISHED-TTL:PT1H
BEGIN:VTIMEZONE
TZID:America/New_York
BEGIN:DAYLIGHT
TZOFFSETFROM:-0500
TZOFFSETTO:-0400
TZNAME:EDT
DTSTART:20230312T070000
END:DAYLIGHT
BEGIN:STANDARD
TZOFFSETFROM:-0400
TZOFFSETTO:-0500
TZNAME:EST
DTSTART:20231105T060000
END:STANDARD
BEGIN:DAYLIGHT
TZOFFSETFROM:-0500
TZOFFSETTO:-0400
TZNAME:EDT
DTSTART:20240310T070000
END:DAYLIGHT
BEGIN:STANDARD
TZOFFSETFROM:-0400
TZOFFSETTO:-0500
TZNAME:EST
DTSTART:20241103T060000
END:STANDARD
BEGIN:DAYLIGHT
TZOFFSETFROM:-0500
TZOFFSETTO:-0400
TZNAME:EDT
DTSTART:20250309T070000
END:DAYLIGHT
BEGIN:STANDARD
TZOFFSETFROM:-0400
TZOFFSETTO:-0500
TZNAME:EST
DTSTART:20251102T060000
END:STANDARD
BEGIN:DAYLIGHT
TZOFFSETFROM:-0500
TZOFFSETTO:-0400
TZNAME:EDT
DTSTART:20260308T070000
END:DAYLIGHT
BEGIN:STANDARD
TZOFFSETFROM:-0400
TZOFFSETTO:-0500
TZNAME:EST
DTSTART:20261101T060000
END:STANDARD
END:VTIMEZONE
BEGIN:VEVENT
DTSTART;VALUE=DATE:20250410
DTEND;VALUE=DATE:20250420
DTSTAMP:20260420T044935
CREATED:20240709T010245Z
LAST-MODIFIED:20240821T072631Z
UID:10211-1744243200-1745107199@www.enorivermedia.com
SUMMARY:RiverRun International Film Festival
DESCRIPTION:
URL:https://www.enorivermedia.com/event/riverrun-international-film-festival/
LOCATION:RiverRun\, Winston Salem\, NC\, United States
ATTACH;FMTTYPE=image/png:https://www.enorivermedia.com/wp-content/uploads/2024/07/RiverRun-Logo.png
END:VEVENT
BEGIN:VEVENT
DTSTART;VALUE=DATE:20250403
DTEND;VALUE=DATE:20250407
DTSTAMP:20260420T044935
CREATED:20240709T010253Z
LAST-MODIFIED:20240821T072727Z
UID:10208-1743638400-1743983999@www.enorivermedia.com
SUMMARY:Full Frame Documentary Film Festival
DESCRIPTION:
URL:https://www.enorivermedia.com/event/full-frame-documentary-film-festival/
LOCATION:FullFrame\, Durham\, NC\, United States
ATTACH;FMTTYPE=image/png:https://www.enorivermedia.com/wp-content/uploads/2024/07/Full-Frame-Logo-01.png
END:VEVENT
BEGIN:VEVENT
DTSTART;VALUE=DATE:20250124
DTEND;VALUE=DATE:20250127
DTSTAMP:20260420T044935
CREATED:20240709T010306Z
LAST-MODIFIED:20240821T072917Z
UID:10255-1737676800-1737935999@www.enorivermedia.com
SUMMARY:Carrboro Film Fest
DESCRIPTION:
URL:https://www.enorivermedia.com/event/carrboro-film-fest/
LOCATION:Carrboro\, Carrboro\, NC\, United States
ATTACH;FMTTYPE=image/jpeg:https://www.enorivermedia.com/wp-content/uploads/2024/07/Carrboro-Film-Fest.jpg
END:VEVENT
BEGIN:VEVENT
DTSTART;VALUE=DATE:20240920
DTEND;VALUE=DATE:20240923
DTSTAMP:20260420T044935
CREATED:20240709T010420Z
LAST-MODIFIED:20240821T073455Z
UID:10235-1726790400-1727049599@www.enorivermedia.com
SUMMARY:Down East Flick Fest
DESCRIPTION:
URL:https://www.enorivermedia.com/event/down-east-flick-fest/
LOCATION:DEFF\, Kingston\, NC\, United States
ATTACH;FMTTYPE=image/jpeg:https://www.enorivermedia.com/wp-content/uploads/2024/07/Deff-Logo.jpg
END:VEVENT
BEGIN:VEVENT
DTSTART;VALUE=DATE:20240510
DTEND;VALUE=DATE:20240512
DTSTAMP:20260420T044935
CREATED:20240709T010604Z
LAST-MODIFIED:20240821T074020Z
UID:10217-1715299200-1715471999@www.enorivermedia.com
SUMMARY:Longleaf Film Festival
DESCRIPTION:
URL:https://www.enorivermedia.com/event/longleaf-film-festival/
LOCATION:Longleaf\, Raleigh\, NC\, United States
ATTACH;FMTTYPE=image/jpeg:https://www.enorivermedia.com/wp-content/uploads/2024/07/Longleaf-Logo.jpg
END:VEVENT
END:VCALENDAR